BEGIN:VCALENDAR
VERSION:2.0
PRODID:-//PHX Fray //NONSGML Events //EN
CALSCALE:GREGORIAN
X-WR-CALNAME:PHX Fray
BEGIN:VEVENT
CREATED:20231024T181029Z
UID:9492
DTEND;VALUE=DATE:20240116T190000Z
DTSTART;VALUE=DATE:20240116T190000Z
DTSTAMP:20260420T192402Z
LOCATION:201 E Jefferson St, Phoenix, AZ 85004
DESCRIPTION:Get in on the hottest #FrayLife deal of the season and get discounted tickets to see the Phoenix Suns face off against the Sacramento Kings!  Calling all basketball fans! Don&#039;t miss out on the action as the Phoenix Suns take on the Sacramento Kings at the Footprint Center this January. Get your game face on and grab your discounted tickets now for an unforgettable experience. There’s limited availability so don’t wait - secure your seats today, and go Suns!
SUMMARY:#FrayLife Deals: Phoenix Suns vs. Sacramento Kings
ORGANIZER:
URL;VALUE=URI:https://www.phxfray.com/event/fraylife-deals-phoenix-suns-vs-sacramento-kings/
TRANSP:OPAQUE
BEGIN:VALARM
ACTION:DISPLAY
TRIGGER;VALUE=DATE-TIME:20240116T190000Z
DESCRIPTION:Reminder for #FrayLife Deals: Phoenix Suns vs. Sacramento Kings
END:VALARM
END:VEVENT
END:VCALENDAR