BEGIN:VCALENDAR
VERSION:2.0
PRODID:-//PHX Fray //NONSGML Events //EN
CALSCALE:GREGORIAN
X-WR-CALNAME:PHX Fray
BEGIN:VEVENT
CREATED:20231022T190738Z
UID:9453
DTEND;VALUE=DATE:20231209T113000Z
DTSTART;VALUE=DATE:20231209T113000Z
DTSTAMP:20260421T164624Z
LOCATION:21001 North Tatum Boulevard #Suite 6 Phoenix, AZ 85050
DESCRIPTION:Lunch and a white elephant gift exchange What is a White Elephant Gift Echange? It is a fun way to exchage Christmas Presents with Friends. If you would like to particiapate in the event you will be required to:  Purchase a gender neutral gift that is $15-$20 in value. Wrap the gift Do not put any names on the gift   Once at the lunch all gifts will be put in a pile. Each of you will pick a number out of a hat. The person with number 1 picks a gift out of the pile and opens it. Then the person with number 2 pickes one and so on. BUT, here is the fun part, gifts can be stolen from each other!! If you decide you don&#039;t want to pick a gift from the pile you can then &quot;steal&quot; a gift from someone who already picked a gift. If you steal their gift they then get to pick another gift out of the pile. Gifts can only be stolen 1 time!!  To be clear, if you would like to pick a gift you will have to bring a gift. If you do not want to participate on the gift exchange you can still have lunch with us!!
SUMMARY:Christmas Party and White Elephant Gift Exchange!
ORGANIZER:
URL;VALUE=URI:https://www.phxfray.com/event/christmas-party-and-white-elephant-gift-exchange/
TRANSP:OPAQUE
BEGIN:VALARM
ACTION:DISPLAY
TRIGGER;VALUE=DATE-TIME:20231209T113000Z
DESCRIPTION:Reminder for Christmas Party and White Elephant Gift Exchange!
END:VALARM
END:VEVENT
END:VCALENDAR