BEGIN:VCALENDAR
VERSION:2.0
PRODID:-//PHX Fray //NONSGML Events //EN
CALSCALE:GREGORIAN
X-WR-CALNAME:PHX Fray
BEGIN:VEVENT
CREATED:20260424T193926Z
UID:12047
DTEND;VALUE=DATE:20260505T000000Z
DTSTART;VALUE=DATE:20260505T000000Z
DTSTAMP:20260425T185702Z
LOCATION:
DESCRIPTION:Spice up your plans with JAX Fray 🌮🎉 From May 5-6, we’re turning up the heat with a 48-hour Cinco de Mayo Flash Sale! Use code &quot;CINCO10&quot; at checkout and get $10 off when you register for any summer social sports league. Grab your friends, shake up your plans, and get ready for a season full of fun, new teammates, and a little extra spice on game day. 🌶️
SUMMARY:Cinco de Mayo Flash Sale | Code “CINCO10”
ORGANIZER:
URL;VALUE=URI:https://www.phxfray.com/event/cinco-de-mayo-flash-sale-code-cinco10/
TRANSP:OPAQUE
BEGIN:VALARM
ACTION:DISPLAY
TRIGGER;VALUE=DATE-TIME:20260505T000000Z
DESCRIPTION:Reminder for Cinco de Mayo Flash Sale | Code “CINCO10”
END:VALARM
END:VEVENT
END:VCALENDAR