BEGIN:VCALENDAR
VERSION:2.0
PRODID:-//PHX Fray //NONSGML Events //EN
CALSCALE:GREGORIAN
X-WR-CALNAME:PHX Fray
BEGIN:VEVENT
CREATED:20251204T221656Z
UID:11634
DTEND;VALUE=DATE:20260117T100000Z
DTSTART;VALUE=DATE:20260117T100000Z
DTSTAMP:20260425T162053Z
LOCATION:1340 E 8th St #104, Tempe, AZ 85281
DESCRIPTION:We&#039;re excited to partner up once again with Four Peaks Brewing for Flow Yoga, a unique event combining relaxation, fitness, and community fun in a laid-back setting.   This event invites participants to unwind with a refreshing and fun hour-long power flow vinyasa-style yoga class designed for all skill levels, followed by the option to enjoy delicious brunch and drinks at the brewery with your first drink (including mimosas, soda, beer, etc) included in your ticket price!   Fraylife+ members get FREE admission to this event. Learn more about how you can save on fun experiences like this and tons of others around the Valley year-round as a part of the Fraylife+ Social Club!
SUMMARY:Flow Yoga at Four Peaks Brewing
ORGANIZER:
URL;VALUE=URI:https://www.phxfray.com/event/flow-yoga/
TRANSP:OPAQUE
BEGIN:VALARM
ACTION:DISPLAY
TRIGGER;VALUE=DATE-TIME:20260117T100000Z
DESCRIPTION:Reminder for Flow Yoga at Four Peaks Brewing
END:VALARM
END:VEVENT
END:VCALENDAR