BEGIN:VCALENDAR
VERSION:2.0
PRODID:-//PHX Fray //NONSGML Events //EN
CALSCALE:GREGORIAN
X-WR-CALNAME:PHX Fray
BEGIN:VEVENT
CREATED:20250710T174232Z
UID:11302
DTEND;VALUE=DATE:20250812T235900Z
DTSTART;VALUE=DATE:20250812T235900Z
DTSTAMP:20260420T173332Z
LOCATION:
DESCRIPTION:Enjoy some fun in the sun with PHX Fray Late Summer leagues!    Our Late Summer season is coming up fast -  sign up by midnight on August 12th to get in on any or all of your favorite leagues. Choose from basketball, pickleball, cornhole, volleyball, softball, skeeball, bocce, flag football + more!   Three ways to register:   As an individual: we’ll hook you up with a team As a group: We’ll combine your group with other to form a team As a team: Create a team and your friends can register to join it
SUMMARY:Last Day to Register for Late Summer Social Sport Leagues
ORGANIZER:
URL;VALUE=URI:https://www.phxfray.com/event/last-day-to-register-for-late-summer-social-sport-leagues-2/
TRANSP:OPAQUE
BEGIN:VALARM
ACTION:DISPLAY
TRIGGER;VALUE=DATE-TIME:20250812T235900Z
DESCRIPTION:Reminder for Last Day to Register for Late Summer Social Sport Leagues
END:VALARM
END:VEVENT
END:VCALENDAR