BEGIN:VCALENDAR
VERSION:2.0
PRODID:-//PHX Fray //NONSGML Events //EN
CALSCALE:GREGORIAN
X-WR-CALNAME:PHX Fray
BEGIN:VEVENT
CREATED:20250328T203054Z
UID:10984
DTEND;VALUE=DATE:20250531T093000Z
DTSTART;VALUE=DATE:20250531T093000Z
DTSTAMP:20260425T203604Z
LOCATION:1340 E 8th St #104, Tempe, AZ 85281
DESCRIPTION:Flow Yoga is our first-ever yoga series in partnership with Yogabox and Four Peaks Brewing! Set to take place on the last Saturday of each month in April, May, and June, this unique event combines relaxation, fitness, and community fun in a laid-back setting.   You&#039;re invited to unwind with a refreshing and fun hour-long power flow yoga class with Yoga Box that is designed for all skill levels, followed by the option to enjoy delicious brunch and drinks at Four Peaks with your first drink (including mimosas, soda, beer, etc) included in your ticket price!   This series is an accessible and enjoyable way to stretch, strengthen, and refresh as well as relax and socialize over a well-deserved meal and beverage - the perfect way to start off your Saturday!   Can&#039;t make it? Check out the other two dates in this series:  Saturday, April 26 9:30am - 10:30am  - Power Flow Yoga (All Levels - Vinyasa Style) Saturday, June 28 9:30am – 10:30am – Power Flow Yoga (All Levels – Vinyasa Style)
SUMMARY:Flow Yoga: PHX Yoga Series
ORGANIZER:
URL;VALUE=URI:https://www.phxfray.com/event/flow-yoga-phx-yoga-series-2/
TRANSP:OPAQUE
BEGIN:VALARM
ACTION:DISPLAY
TRIGGER;VALUE=DATE-TIME:20250531T093000Z
DESCRIPTION:Reminder for Flow Yoga: PHX Yoga Series
END:VALARM
END:VEVENT
END:VCALENDAR