BEGIN:VCALENDAR
VERSION:2.0
PRODID:-//PHX Fray //NONSGML Events //EN
CALSCALE:GREGORIAN
X-WR-CALNAME:PHX Fray
BEGIN:VEVENT
CREATED:20240319T195706Z
UID:10039
DTEND;VALUE=DATE:20240406T090000Z
DTSTART;VALUE=DATE:20240406T090000Z
DTSTAMP:20260425T170543Z
LOCATION:4289 N Hayden Rd, Scottsdale, AZ 85251
DESCRIPTION:Calling all sand volleyball players! 🏐 Bump, set and spike your way to glory on Saturday, April 6 at Indian School Park in Scottsdale. This 6x6, coed tournament is serving competition and community with a side of sun and sand. Register as an individual or draft your own roster and sign up with your friends to build your A-team. Game play starts at 9 a.m. and whether you move on to the next round or not, you’ll want to stick around for beer, fitness friendships and fun in the sun. Registration closes Tuesday, April 2 or once teams are filled, so don’t wait! Sign up today to secure your spot.
SUMMARY:Bump It! Sand Volleyball Tournament
ORGANIZER:
URL;VALUE=URI:https://www.phxfray.com/event/bump-it-sand-volleyball-tournament-2/
TRANSP:OPAQUE
BEGIN:VALARM
ACTION:DISPLAY
TRIGGER;VALUE=DATE-TIME:20240406T090000Z
DESCRIPTION:Reminder for Bump It! Sand Volleyball Tournament
END:VALARM
END:VEVENT
END:VCALENDAR