BEGIN:VCALENDAR
VERSION:2.0
PRODID:-//PHX Fray //NONSGML Events //EN
CALSCALE:GREGORIAN
X-WR-CALNAME:PHX Fray
BEGIN:VEVENT
CREATED:20240315T185254Z
UID:10033
DTEND;VALUE=DATE:20240323T080000Z
DTSTART;VALUE=DATE:20240323T080000Z
DTSTAMP:20260425T193956Z
LOCATION:550 East Tempe Town Lake Tempe, AZ 85281
DESCRIPTION:Experience the excitement of dragon boat racing at Tempe Town Lake! Watch teams from across the US and beyond compete in thrilling races. Originating in Southern China, Dragon Boat races are now held worldwide, including in the heart of the Arizona desert.
SUMMARY:Annual Arizona Dragon Boat Festival
ORGANIZER:
URL;VALUE=URI:https://www.phxfray.com/event/annual-arizona-dragon-boat-festival/
TRANSP:OPAQUE
BEGIN:VALARM
ACTION:DISPLAY
TRIGGER;VALUE=DATE-TIME:20240323T080000Z
DESCRIPTION:Reminder for Annual Arizona Dragon Boat Festival
END:VALARM
END:VEVENT
END:VCALENDAR